BEGIN:VCALENDAR
VERSION:2.0
PRODID:-//Ampa Universidad laboral de Toledo - ECPv4.6.1//NONSGML v1.0//EN
CALSCALE:GREGORIAN
METHOD:PUBLISH
X-WR-CALNAME:Ampa Universidad laboral de Toledo
X-ORIGINAL-URL:https://ampauniversidadlaboraltoledo.es
X-WR-CALDESC:Events for Ampa Universidad laboral de Toledo
BEGIN:VEVENT
DTSTART;VALUE=DATE:20171112
DTEND;VALUE=DATE:20171113
DTSTAMP:20260422T005101
CREATED:20171109T113027Z
LAST-MODIFIED:20171109T113027Z
UID:1923-1510444800-1510531199@ampauniversidadlaboraltoledo.es
SUMMARY:ADITO. Carrera popular
DESCRIPTION: \n
URL:https://ampauniversidadlaboraltoledo.es/evento/adito-carrera-popular-2/
ATTACH;FMTTYPE=image/jpeg:https://ampauniversidadlaboraltoledo.es/wp-content/uploads/2017/11/Adito.-Carrera-solidaria.jpg
END:VEVENT
END:VCALENDAR