BEGIN:VCALENDAR
VERSION:2.0
PRODID:-//Ampa Universidad laboral de Toledo - ECPv4.6.1//NONSGML v1.0//EN
CALSCALE:GREGORIAN
METHOD:PUBLISH
X-WR-CALNAME:Ampa Universidad laboral de Toledo
X-ORIGINAL-URL:https://ampauniversidadlaboraltoledo.es
X-WR-CALDESC:Events for Ampa Universidad laboral de Toledo
BEGIN:VEVENT
DTSTART;VALUE=DATE:20171130
DTEND;VALUE=DATE:20180117
DTSTAMP:20260421T232525
CREATED:20171130T091203Z
LAST-MODIFIED:20171214T124154Z
UID:1935-1512000000-1516147199@ampauniversidadlaboraltoledo.es
SUMMARY:Taller TÉCNICAS DE ESTUDIO
DESCRIPTION:Si quieres mejorar dos puntos o más tus calificaciones \nINSCRIBIRTE al Taller de TÉCNICAS DE ESTUDIO.  \nPlazo de inscripción abierto del 30-11-2017 al 10-1-2018\, hasta completar aforo (rellenar el formulario de debajo).  \nFormulario de inscripción Taller &#8220;Técnicas de Estudio&#8221; \nEl día 11-1-2018 se publicará el listado de admitidos. \nSiguiendo el método conseguirás mejorar tus resultados dedicando menos tiempo al estudio. \nDÍA DE CELEBRACIÓN 17 DE ENERO A LAS 17\,30 en la sala de padres edificio central. \nImprescindible que el alumno venga acompañado por el padre\, madre\,  \ntutor o ambos. Se trabajará el tema de la organización del estudio\, el estudio\, la alimentación y el deporte para un desarrollo integral y efectivo en el estudio. \nCOSTE ECONÓMICO:  \nSOCIOS DE LA AMPA GRATIS Y NO SOCIOS 5 € por familia. \nImparte el taller de Técnicas de Estudio:  \nDña Sagrario del Valle Díaz. \nDoctora en Psicología Evolutiva.  \nExperta en desarrollo del pensamiento metacognitivo. \n
URL:https://ampauniversidadlaboraltoledo.es/evento/taller-tecnicas-de-estudio/
END:VEVENT
BEGIN:VEVENT
DTSTART;VALUE=DATE:20171130
DTEND;VALUE=DATE:20171219
DTSTAMP:20260421T232525
CREATED:20171130T104258Z
LAST-MODIFIED:20171130T112512Z
UID:1957-1512000000-1513641599@ampauniversidadlaboraltoledo.es
SUMMARY:¡¡¡Premio!!! al buen uso de la Agenda escolar
DESCRIPTION: \nSi estas usando correctamente la agenda del AMPA \nNo pierdas la oportunidad de PARTICIPAR EN EL SORTEO DE NAVIDAD que se celebrará el día 18 de diciembre a la hora del recreo en el porche de la entrada de la cafetería.  \nLos días 12\, 13 y 14 de diciembre se revisarán las agendas\, a la hora del recreo en la sala de la AMPA (puerta de cafetería\, continuar pasillo y al fondo).  \nSi tu agenda tiene un buen uso se te asignará un número para el sorteo. \nEl premio consiste en una tarjeta regalo Decathlon. \n
URL:https://ampauniversidadlaboraltoledo.es/evento/premio-al-buen-uso-de-la-agenda-escolar/
END:VEVENT
END:VCALENDAR