BEGIN:VCALENDAR
VERSION:2.0
PRODID:-//Ampa Universidad laboral de Toledo - ECPv4.6.1//NONSGML v1.0//EN
CALSCALE:GREGORIAN
METHOD:PUBLISH
X-WR-CALNAME:Ampa Universidad laboral de Toledo
X-ORIGINAL-URL:https://ampauniversidadlaboraltoledo.es
X-WR-CALDESC:Events for Ampa Universidad laboral de Toledo
BEGIN:VEVENT
DTSTART;TZID=Europe/Madrid:20180209T080000
DTEND;TZID=Europe/Madrid:20180305T170000
DTSTAMP:20260421T202943
CREATED:20180209T110015Z
LAST-MODIFIED:20180209T113858Z
UID:2087-1518163200-1520269200@ampauniversidadlaboraltoledo.es
SUMMARY:3ª sesión TALLER TÉCNICAS DE ESTUDIO
DESCRIPTION: \nEL DÍA 5 DE MARZO se llevará a cabo la 3ª sesión del Taller &#8220;Técnicas de Estudio&#8221; \nHora: 17:00. Aula 305 \nCada alumno recibirá una corrección personal de sus resúmenes. \nFORMULARIO DE INSCRIPCIÓN PARA LA ACTIVIDAD: 3ª SESIÓN TÉCNICAS DE ESTUDIO. ESO\, BACHILLER Y FP \nImprescindible: \n\nLLevar los resúmenes elaborados durante este tiempo.\nLLevar el libro que más contenido tenga.\nLápiz\, subrayadores\, boligrafo\, regla.\nIr acompañado por el padre o la madre.\n\nAl ser la atención personalizada se ruega que en la medida que vayan llegando ustedes\, pidan el turno de vez. \n \n
URL:https://ampauniversidadlaboraltoledo.es/evento/3a-sesion-taller-tecnicas-de-estudio/
END:VEVENT
END:VCALENDAR