BEGIN:VCALENDAR
VERSION:2.0
PRODID:-//Ampa Universidad laboral de Toledo - ECPv4.6.1//NONSGML v1.0//EN
CALSCALE:GREGORIAN
METHOD:PUBLISH
X-WR-CALNAME:Ampa Universidad laboral de Toledo
X-ORIGINAL-URL:https://ampauniversidadlaboraltoledo.es
X-WR-CALDESC:Events for Ampa Universidad laboral de Toledo
BEGIN:VEVENT
DTSTART;TZID=Europe/Madrid:20180519T090000
DTEND;TZID=Europe/Madrid:20180519T130000
DTSTAMP:20260421T154717
CREATED:20180515T124434Z
LAST-MODIFIED:20180515T124528Z
UID:2132-1526720400-1526734800@ampauniversidadlaboraltoledo.es
SUMMARY:Senderismo con la AMPA de la UNI
DESCRIPTION: \nAnÃ­mate y ven a disfrutar de una maÃ±ana de paseo al aire libre\, al mismo tiempo que conoceremos el entorno de Toledo y sus alrededores. \nEsta actividad tendrÃ¡ lugar el prÃ³ximo sÃ¡bado 19 de mayo. \nActividad abierta a alumnos\, familiares y profesores. \nRutas asequibles\, en torno a 3-4 horas de marcha. \nComenzaremos por los alrededores de Toledo\, y luego todo se andarÃ¡. \nApÃºntate! Te esperamos! \nLugar de encuentro: Colegio PÃºblico Sta Teresa (Av. de Carlos III)\, a las 9 h del sÃ¡bado \nSi quieres venir\, envÃ­a un correo a secretaria@ampauniversidadlaboraltoledo.es\, y dinos cuantos sois\, y en quÃ© cursos estÃ¡is. \n  \nSenderismo con la AMPA de la UNI \n \n  \n
URL:https://ampauniversidadlaboraltoledo.es/evento/senderismo-con-la-ampa-de-la-uni/
END:VEVENT
END:VCALENDAR