BEGIN:VCALENDAR
VERSION:2.0
PRODID:-//Ampa Universidad laboral de Toledo - ECPv4.6.1//NONSGML v1.0//EN
CALSCALE:GREGORIAN
METHOD:PUBLISH
X-WR-CALNAME:Ampa Universidad laboral de Toledo
X-ORIGINAL-URL:https://ampauniversidadlaboraltoledo.es
X-WR-CALDESC:Events for Ampa Universidad laboral de Toledo
BEGIN:VEVENT
DTSTART;TZID=Europe/Madrid:20180524T080000
DTEND;TZID=Europe/Madrid:20180731T170000
DTSTAMP:20260421T124347
CREATED:20180605T084136Z
LAST-MODIFIED:20180607T134658Z
UID:2136-1527148800-1533056400@ampauniversidadlaboraltoledo.es
SUMMARY:GraduaciÃ³n Bachiller 2018
DESCRIPTION:El dÃ­a 24 de mayo con motivo de la GRADUACIÃ“N de los alumnos de Bachillerato de la Universidad Laboral\, nuestra AMPA participÃ³ ofreciendo a las familias &#8220;un momento dulce&#8221;. \nEl evento se desarrollÃ³ en un ambiente distendido\, alegre y cercano donde disfrutamos todos\, desde los mÃ¡s pequeÃ±os que degustaron\, con entusiasmo\, las &#8220;mini magdalenas de chocolate&#8221; hasta los abuelos mÃ¡s longevos con nuestro exquisito &#8220;cocktail de frutas&#8221; y pasteles variados. \nDesde aquÃ­ felicitamos a todos los graduados\, a sus familias y a los profesores que han formado parte de sus vidas. \n         \n
URL:https://ampauniversidadlaboraltoledo.es/evento/graduacion-bachiller-2018/
ATTACH;FMTTYPE=image/jpeg:https://ampauniversidadlaboraltoledo.es/wp-content/uploads/2018/06/IMG-20180525-WA0012.jpg
END:VEVENT
BEGIN:VEVENT
DTSTART;TZID=Europe/Madrid:20180604T080000
DTEND;TZID=Europe/Madrid:20180930T170000
DTSTAMP:20260421T124347
CREATED:20180607T142105Z
LAST-MODIFIED:20190912T164648Z
UID:2200-1528099200-1538326800@ampauniversidadlaboraltoledo.es
SUMMARY:Abierto plazo de inscripciÃ³n Clases de InglÃ©s\, AlemÃ¡n\, JaponÃ©s e Italiano\, Bailes regiolales\, Aikydo
DESCRIPTION:Si quieres preparar el examen CAMBRIDGE. InscrÃ­bete en ACTIVIDADES y elige: idioma inglÃ©s. \nSi quieres preparar el examen GOETHE. InscrÃ­bete en ACTIVIDADES y elige: idioma AlemÃ¡n.Â  \nSi quieres aprender JAPONÃ‰S. InscribirteÂ en ACTIVIDADES y elige idioma JAPONÃ‰S. \nSi quieres aprender ITALIANO. Inscribirte en ACTIVIDADES y elige idioma ITALIANO. \nSi quieres aprender FRANCÃ‰S. InscrÃ­bete en ACTIVIDADES y elige idioma FrancÃ©s.\nÂ¡RECUERDA QUE ES IMPORTANTE HABLAR IDIOMAS! \n
URL:https://ampauniversidadlaboraltoledo.es/evento/clases-extraescolares-de-idiomas/
ATTACH;FMTTYPE=image/jpeg:https://ampauniversidadlaboraltoledo.es/wp-content/uploads/2018/06/Actividades-extraescolares.jpg
END:VEVENT
BEGIN:VEVENT
DTSTART;TZID=Europe/Madrid:20180702T080000
DTEND;TZID=Europe/Madrid:20181130T170000
DTSTAMP:20260421T124347
CREATED:20180705T190256Z
LAST-MODIFIED:20180705T195942Z
UID:2239-1530518400-1543597200@ampauniversidadlaboraltoledo.es
SUMMARY:HAZTE SOCIO Y SI YA LO ERES\, DEBES RENOVAR LA INSCRIPCIÃ“N
DESCRIPTION:A todos los padres y madres:  \nComo ya sabÃ©is la mayorÃ­a\, cada aÃ±o hay que hacerse socio. \n1Âº) Se rellena el formulario que se encuentra en el apartado \n&#8220;Nuestra AMPA&#8221;/ hazte socio. \n2Âº) Formas de pago: \na) Transferencia bancaria al nÃºmero de cuenta que se detalla en el formulario de inscripciÃ³n o en persona ( en efectivo oconÂ tarjeta)\, en la Universidad Laboral en el stand de la AMPA\,situado en el porche de secretarÃ­a los dÃ­as 2\, 3\, 4\, 5\, 6 y 9 y 10Â de julio\, de 9:00-13:00 h.\n  \n
URL:https://ampauniversidadlaboraltoledo.es/evento/2239/
END:VEVENT
END:VCALENDAR